Package: sparrow Version: 1.10.1 Command: rm -rf sparrow.buildbin-libdir && mkdir sparrow.buildbin-libdir && E:\biocbuild\bbs-3.19-bioc\R\bin\R.exe CMD INSTALL --build --library=sparrow.buildbin-libdir sparrow_1.10.1.tar.gz StartedAt: 2024-10-17 08:41:28 -0400 (Thu, 17 Oct 2024) EndedAt: 2024-10-17 08:42:53 -0400 (Thu, 17 Oct 2024) EllapsedTime: 85.1 seconds RetCode: 0 Status: OK PackageFile: sparrow_1.10.1.zip PackageFileSize: 4.276 MiB