Package: sparrow Version: 1.10.1 Command: F:\biocbuild\bbs-3.19-bioc\R\bin\R.exe CMD check --no-multiarch --install=check:sparrow.install-out.txt --library=F:\biocbuild\bbs-3.19-bioc\R\library --no-vignettes --timings sparrow_1.10.1.tar.gz StartedAt: 2024-06-27 06:24:00 -0400 (Thu, 27 Jun 2024) EndedAt: 2024-06-27 06:39:08 -0400 (Thu, 27 Jun 2024) EllapsedTime: 907.3 seconds RetCode: 0 Status: OK CheckDir: sparrow.Rcheck Warnings: 0