Package: sparrow Version: 1.10.1 Command: rm -rf sparrow.buildbin-libdir && mkdir sparrow.buildbin-libdir && F:\biocbuild\bbs-3.19-bioc\R\bin\R.exe CMD INSTALL --build --library=sparrow.buildbin-libdir sparrow_1.10.1.tar.gz StartedAt: 2024-06-27 08:57:52 -0400 (Thu, 27 Jun 2024) EndedAt: 2024-06-27 08:58:44 -0400 (Thu, 27 Jun 2024) EllapsedTime: 51.6 seconds RetCode: 0 Status: OK PackageFile: sparrow_1.10.1.zip PackageFileSize: 4.278 MiB