Package: sparrow Version: 1.10.1 Command: /Library/Frameworks/R.framework/Resources/bin/R CMD INSTALL sparrow StartedAt: 2024-06-09 15:21:16 -0400 (Sun, 09 Jun 2024) EndedAt: 2024-06-09 15:21:57 -0400 (Sun, 09 Jun 2024) EllapsedTime: 40.7 seconds RetCode: 0 Status: OK