Package: sparrow Version: 1.10.1 Command: rm -rf sparrow.buildbin-libdir && mkdir sparrow.buildbin-libdir && /Users/biocbuild/BBS/utils/build-universal.sh sparrow_1.10.1.tar.gz /Library/Frameworks/R.framework/Resources/bin/R sparrow.buildbin-libdir StartedAt: 2024-06-10 00:41:08 -0400 (Mon, 10 Jun 2024) EndedAt: 2024-06-10 00:41:54 -0400 (Mon, 10 Jun 2024) EllapsedTime: 46.4 seconds RetCode: 0 Status: OK PackageFile: sparrow_1.10.1.tgz PackageFileSize: 4.625 MiB