Package: sparrow Version: 1.10.1 Command: /home/biocbuild/R/R-beta-2024-04-15_r86425/bin/R CMD check --install=check:sparrow.install-out.txt --library=/home/biocbuild/R/R-beta-2024-04-15_r86425/site-library --no-vignettes --timings sparrow_1.10.1.tar.gz StartedAt: 2024-05-08 12:08:20 -0000 (Wed, 08 May 2024) EndedAt: 2024-05-08 12:20:42 -0000 (Wed, 08 May 2024) EllapsedTime: 742.2 seconds RetCode: 0 Status: OK CheckDir: sparrow.Rcheck Warnings: 0