Package: sparrow Version: 1.10.1 Command: /home/biocbuild/R/R-beta-2024-04-15_r86425/bin/R CMD build --keep-empty-dirs --no-resave-data sparrow StartedAt: 2024-05-09 03:45:15 -0000 (Thu, 09 May 2024) EndedAt: 2024-05-09 03:49:43 -0000 (Thu, 09 May 2024) EllapsedTime: 267.3 seconds RetCode: 0 Status: OK PackageFile: sparrow_1.10.1.tar.gz PackageFileSize: 3.884 MiB