Package: sparrow Version: 1.10.1 Command: /Library/Frameworks/R.framework/Resources/bin/R CMD INSTALL sparrow StartedAt: 2024-06-09 16:31:32 -0400 (Sun, 09 Jun 2024) EndedAt: 2024-06-09 16:32:16 -0400 (Sun, 09 Jun 2024) EllapsedTime: 44.5 seconds RetCode: 0 Status: OK