Package: sparrow Version: 1.10.1 Command: /Library/Frameworks/R.framework/Resources/bin/R CMD build --keep-empty-dirs --no-resave-data sparrow StartedAt: 2024-10-17 09:42:45 -0400 (Thu, 17 Oct 2024) EndedAt: 2024-10-17 09:47:46 -0400 (Thu, 17 Oct 2024) EllapsedTime: 300.7 seconds RetCode: 0 Status: OK PackageFile: sparrow_1.10.1.tar.gz PackageFileSize: 4.215 MiB