Package: spaSim Version: 1.6.0 Command: rm -rf spaSim.buildbin-libdir && mkdir spaSim.buildbin-libdir && E:\biocbuild\bbs-3.19-bioc\R\bin\R.exe CMD INSTALL --build --library=spaSim.buildbin-libdir spaSim_1.6.0.tar.gz StartedAt: 2024-10-17 08:41:40 -0400 (Thu, 17 Oct 2024) EndedAt: 2024-10-17 08:42:11 -0400 (Thu, 17 Oct 2024) EllapsedTime: 30.6 seconds RetCode: 0 Status: OK PackageFile: spaSim_1.6.0.zip PackageFileSize: 1.064 MiB