Package: spaSim Version: 1.6.0 Command: F:\biocbuild\bbs-3.19-bioc\R\bin\R.exe CMD INSTALL spaSim StartedAt: 2024-06-26 15:58:14 -0400 (Wed, 26 Jun 2024) EndedAt: 2024-06-26 15:58:55 -0400 (Wed, 26 Jun 2024) EllapsedTime: 40.7 seconds RetCode: 0 Status: OK