Package: spaSim Version: 1.6.0 Command: chmod a+r spaSim -R && F:\biocbuild\bbs-3.19-bioc\R\bin\R.exe CMD build --keep-empty-dirs --no-resave-data spaSim StartedAt: 2024-06-26 22:05:47 -0400 (Wed, 26 Jun 2024) EndedAt: 2024-06-26 22:08:10 -0400 (Wed, 26 Jun 2024) EllapsedTime: 142.5 seconds RetCode: 0 Status: OK PackageFile: spaSim_1.6.0.tar.gz PackageFileSize: 1004 KiB