Package: spaSim Version: 1.6.0 Command: /Library/Frameworks/R.framework/Resources/bin/R CMD build --keep-empty-dirs --no-resave-data spaSim StartedAt: 2024-10-16 23:34:53 -0400 (Wed, 16 Oct 2024) EndedAt: 2024-10-16 23:39:49 -0400 (Wed, 16 Oct 2024) EllapsedTime: 295.6 seconds RetCode: 0 Status: OK PackageFile: spaSim_1.6.0.tar.gz PackageFileSize: 3.901 MiB