Package: spaSim Version: 1.6.0 Command: /Library/Frameworks/R.framework/Resources/bin/R CMD build --keep-empty-dirs --no-resave-data spaSim StartedAt: 2024-06-09 18:16:53 -0400 (Sun, 09 Jun 2024) EndedAt: 2024-06-09 18:18:40 -0400 (Sun, 09 Jun 2024) EllapsedTime: 106.8 seconds RetCode: 0 Status: OK PackageFile: spaSim_1.6.0.tar.gz PackageFileSize: 3.9 MiB