Package: spaSim Version: 1.6.0 Command: /home/biocbuild/R/R-beta-2024-04-15_r86425/bin/R CMD INSTALL spaSim StartedAt: 2024-05-08 20:18:29 -0000 (Wed, 08 May 2024) EndedAt: 2024-05-08 20:19:04 -0000 (Wed, 08 May 2024) EllapsedTime: 34.3 seconds RetCode: 0 Status: OK