Package: spaSim Version: 1.6.0 Command: /home/biocbuild/R/R-beta-2024-04-15_r86425/bin/R CMD check --install=check:spaSim.install-out.txt --library=/home/biocbuild/R/R-beta-2024-04-15_r86425/site-library --no-vignettes --timings spaSim_1.6.0.tar.gz StartedAt: 2024-05-09 12:10:48 -0000 (Thu, 09 May 2024) EndedAt: 2024-05-09 12:17:22 -0000 (Thu, 09 May 2024) EllapsedTime: 394.7 seconds RetCode: 1 Status: ERROR CheckDir: spaSim.Rcheck Warnings: NA