Package: soGGi Version: 1.36.0 Command: E:\biocbuild\bbs-3.19-bioc\R\bin\R.exe CMD INSTALL soGGi StartedAt: 2024-10-16 16:34:10 -0400 (Wed, 16 Oct 2024) EndedAt: 2024-10-16 16:35:04 -0400 (Wed, 16 Oct 2024) EllapsedTime: 54.0 seconds RetCode: 0 Status: OK