Package: soGGi Version: 1.36.0 Command: rm -rf soGGi.buildbin-libdir && mkdir soGGi.buildbin-libdir && E:\biocbuild\bbs-3.19-bioc\R\bin\R.exe CMD INSTALL --build --library=soGGi.buildbin-libdir soGGi_1.36.0.tar.gz StartedAt: 2024-10-17 08:41:01 -0400 (Thu, 17 Oct 2024) EndedAt: 2024-10-17 08:41:55 -0400 (Thu, 17 Oct 2024) EllapsedTime: 54.6 seconds RetCode: 0 Status: OK PackageFile: soGGi_1.36.0.zip PackageFileSize: 3.439 MiB