Package: soGGi Version: 1.36.0 Command: /Library/Frameworks/R.framework/Resources/bin/R CMD INSTALL soGGi StartedAt: 2024-10-16 17:09:55 -0400 (Wed, 16 Oct 2024) EndedAt: 2024-10-16 17:10:45 -0400 (Wed, 16 Oct 2024) EllapsedTime: 50.2 seconds RetCode: 0 Status: OK