Package: soGGi Version: 1.36.0 Command: /Library/Frameworks/R.framework/Resources/bin/R CMD check --install=check:soGGi.install-out.txt --library=/Library/Frameworks/R.framework/Resources/library --no-vignettes --timings soGGi_1.36.0.tar.gz StartedAt: 2024-10-18 13:01:22 -0400 (Fri, 18 Oct 2024) EndedAt: 2024-10-18 13:07:27 -0400 (Fri, 18 Oct 2024) EllapsedTime: 365.3 seconds RetCode: 0 Status: OK CheckDir: soGGi.Rcheck Warnings: 0