Package: snpStats Version: 1.54.0 Command: E:\biocbuild\bbs-3.19-bioc\R\bin\R.exe CMD INSTALL snpStats StartedAt: 2024-10-16 17:04:19 -0400 (Wed, 16 Oct 2024) EndedAt: 2024-10-16 17:05:22 -0400 (Wed, 16 Oct 2024) EllapsedTime: 63.6 seconds RetCode: 0 Status: OK