Package: snpStats Version: 1.54.0 Command: rm -rf snpStats.buildbin-libdir && mkdir snpStats.buildbin-libdir && F:\biocbuild\bbs-3.19-bioc\R\bin\R.exe CMD INSTALL --build --library=snpStats.buildbin-libdir snpStats_1.54.0.tar.gz StartedAt: 2024-06-27 08:57:34 -0400 (Thu, 27 Jun 2024) EndedAt: 2024-06-27 08:58:31 -0400 (Thu, 27 Jun 2024) EllapsedTime: 56.8 seconds RetCode: 0 Status: OK PackageFile: snpStats_1.54.0.zip PackageFileSize: 7.53 MiB