Package: snpStats Version: 1.54.0 Command: /home/biocbuild/bbs-3.19-bioc/R/bin/R CMD INSTALL snpStats StartedAt: 2024-10-16 16:33:44 -0400 (Wed, 16 Oct 2024) EndedAt: 2024-10-16 16:34:00 -0400 (Wed, 16 Oct 2024) EllapsedTime: 16.0 seconds RetCode: 0 Status: OK