Package: snpStats Version: 1.54.0 Command: /home/biocbuild/bbs-3.19-bioc/R/bin/R CMD build --keep-empty-dirs --no-resave-data snpStats StartedAt: 2024-10-16 20:55:29 -0400 (Wed, 16 Oct 2024) EndedAt: 2024-10-16 20:56:29 -0400 (Wed, 16 Oct 2024) EllapsedTime: 60.1 seconds RetCode: 0 Status: OK PackageFile: snpStats_1.54.0.tar.gz PackageFileSize: 6.736 MiB