Package: snpStats Version: 1.54.0 Command: /Library/Frameworks/R.framework/Resources/bin/R CMD check --install=check:snpStats.install-out.txt --library=/Library/Frameworks/R.framework/Resources/library --no-vignettes --timings snpStats_1.54.0.tar.gz StartedAt: 2024-10-17 13:28:21 -0400 (Thu, 17 Oct 2024) EndedAt: 2024-10-17 13:31:04 -0400 (Thu, 17 Oct 2024) EllapsedTime: 162.4 seconds RetCode: 0 Status: WARNINGS CheckDir: snpStats.Rcheck Warnings: 2