Package: snpStats Version: 1.54.0 Command: /Library/Frameworks/R.framework/Resources/bin/R CMD build --keep-empty-dirs --no-resave-data snpStats StartedAt: 2024-10-16 23:31:52 -0400 (Wed, 16 Oct 2024) EndedAt: 2024-10-16 23:35:13 -0400 (Wed, 16 Oct 2024) EllapsedTime: 201.5 seconds RetCode: 0 Status: OK PackageFile: snpStats_1.54.0.tar.gz PackageFileSize: 7.736 MiB