Package: snpStats Version: 1.54.0 Command: /Library/Frameworks/R.framework/Resources/bin/R CMD INSTALL snpStats StartedAt: 2024-06-09 15:34:51 -0400 (Sun, 09 Jun 2024) EndedAt: 2024-06-09 15:35:16 -0400 (Sun, 09 Jun 2024) EllapsedTime: 25.3 seconds RetCode: 0 Status: OK