Package: snpStats Version: 1.54.0 Command: /Library/Frameworks/R.framework/Resources/bin/R CMD check --install=check:snpStats.install-out.txt --library=/Library/Frameworks/R.framework/Resources/library --no-vignettes --timings snpStats_1.54.0.tar.gz StartedAt: 2024-06-09 23:11:33 -0400 (Sun, 09 Jun 2024) EndedAt: 2024-06-09 23:12:57 -0400 (Sun, 09 Jun 2024) EllapsedTime: 83.7 seconds RetCode: 0 Status: WARNINGS CheckDir: snpStats.Rcheck Warnings: 2