Package: snpStats Version: 1.54.0 Command: rm -rf snpStats.buildbin-libdir && mkdir snpStats.buildbin-libdir && /Users/biocbuild/BBS/utils/build-universal.sh snpStats_1.54.0.tar.gz /Library/Frameworks/R.framework/Resources/bin/R snpStats.buildbin-libdir StartedAt: 2024-06-10 00:41:00 -0400 (Mon, 10 Jun 2024) EndedAt: 2024-06-10 00:41:29 -0400 (Mon, 10 Jun 2024) EllapsedTime: 29.2 seconds RetCode: 0 Status: OK PackageFile: snpStats_1.54.0.tgz PackageFileSize: 8.508 MiB