Package: snpStats Version: 1.54.0 Command: /Library/Frameworks/R.framework/Resources/bin/R CMD build --keep-empty-dirs --no-resave-data snpStats StartedAt: 2024-10-17 09:38:54 -0400 (Thu, 17 Oct 2024) EndedAt: 2024-10-17 09:40:40 -0400 (Thu, 17 Oct 2024) EllapsedTime: 106.3 seconds RetCode: 0 Status: OK PackageFile: snpStats_1.54.0.tar.gz PackageFileSize: 7.736 MiB