Package: snpStats Version: 1.54.0 Command: rm -rf snpStats.buildbin-libdir && mkdir snpStats.buildbin-libdir && /Users/biocbuild/BBS/utils/build-universal.sh snpStats_1.54.0.tar.gz /Library/Frameworks/R.framework/Resources/bin/R snpStats.buildbin-libdir StartedAt: 2024-10-15 20:23:56 -0400 (Tue, 15 Oct 2024) EndedAt: 2024-10-15 20:24:25 -0400 (Tue, 15 Oct 2024) EllapsedTime: 29.0 seconds RetCode: 0 Status: OK PackageFile: snpStats_1.54.0.tgz PackageFileSize: 8.5 MiB