Package: snm Version: 1.52.0 Command: rm -rf snm.buildbin-libdir && mkdir snm.buildbin-libdir && E:\biocbuild\bbs-3.19-bioc\R\bin\R.exe CMD INSTALL --build --library=snm.buildbin-libdir snm_1.52.0.tar.gz StartedAt: 2024-10-17 08:40:50 -0400 (Thu, 17 Oct 2024) EndedAt: 2024-10-17 08:41:07 -0400 (Thu, 17 Oct 2024) EllapsedTime: 17.4 seconds RetCode: 0 Status: OK PackageFile: snm_1.52.0.zip PackageFileSize: 457.9 KiB