Package: snifter Version: 1.14.0 Command: rm -rf snifter.buildbin-libdir && mkdir snifter.buildbin-libdir && E:\biocbuild\bbs-3.19-bioc\R\bin\R.exe CMD INSTALL --build --library=snifter.buildbin-libdir snifter_1.14.0.tar.gz StartedAt: 2024-10-17 08:40:48 -0400 (Thu, 17 Oct 2024) EndedAt: 2024-10-17 08:41:08 -0400 (Thu, 17 Oct 2024) EllapsedTime: 20.6 seconds RetCode: 0 Status: OK PackageFile: snifter_1.14.0.zip PackageFileSize: 517.5 KiB