Package: snifter Version: 1.14.0 Command: chmod a+r snifter -R && F:\biocbuild\bbs-3.19-bioc\R\bin\R.exe --arch x64 CMD build --keep-empty-dirs --no-resave-data snifter StartedAt: 2024-06-26 22:03:15 -0400 (Wed, 26 Jun 2024) EndedAt: 2024-06-26 22:04:50 -0400 (Wed, 26 Jun 2024) EllapsedTime: 95.5 seconds RetCode: 0 Status: OK PackageFile: snifter_1.14.0.tar.gz PackageFileSize: 497.8 KiB