Package: snifter Version: 1.14.0 Command: /Library/Frameworks/R.framework/Resources/bin/R CMD check --install=check:snifter.install-out.txt --library=/Library/Frameworks/R.framework/Resources/library --no-vignettes --timings snifter_1.14.0.tar.gz StartedAt: 2024-10-17 13:26:27 -0400 (Thu, 17 Oct 2024) EndedAt: 2024-10-17 13:31:01 -0400 (Thu, 17 Oct 2024) EllapsedTime: 274.9 seconds RetCode: 0 Status: OK CheckDir: snifter.Rcheck Warnings: 0