Package: snifter Version: 1.14.0 Command: /Library/Frameworks/R.framework/Resources/bin/R CMD build --keep-empty-dirs --no-resave-data snifter StartedAt: 2024-10-16 23:31:16 -0400 (Wed, 16 Oct 2024) EndedAt: 2024-10-16 23:33:42 -0400 (Wed, 16 Oct 2024) EllapsedTime: 146.0 seconds RetCode: 0 Status: OK PackageFile: snifter_1.14.0.tar.gz PackageFileSize: 876.7 KiB