Package: snifter Version: 1.14.0 Command: rm -rf snifter.buildbin-libdir && mkdir snifter.buildbin-libdir && /Users/biocbuild/BBS/utils/build-universal.sh snifter_1.14.0.tar.gz /Library/Frameworks/R.framework/Resources/bin/R snifter.buildbin-libdir StartedAt: 2024-10-17 17:14:48 -0400 (Thu, 17 Oct 2024) EndedAt: 2024-10-17 17:15:07 -0400 (Thu, 17 Oct 2024) EllapsedTime: 19.3 seconds RetCode: 0 Status: OK PackageFile: snifter_1.14.0.tgz PackageFileSize: 893.3 KiB