Package: snifter Version: 1.14.0 Command: /home/biocbuild/R/R-beta-2024-04-15_r86425/bin/R CMD check --install=check:snifter.install-out.txt --library=/home/biocbuild/R/R-beta-2024-04-15_r86425/site-library --no-vignettes --timings snifter_1.14.0.tar.gz StartedAt: 2024-05-09 12:06:03 -0000 (Thu, 09 May 2024) EndedAt: 2024-05-09 12:09:01 -0000 (Thu, 09 May 2024) EllapsedTime: 178.3 seconds RetCode: 0 Status: OK CheckDir: snifter.Rcheck Warnings: 0