Package: snifter Version: 1.14.0 Command: rm -rf snifter.buildbin-libdir && mkdir snifter.buildbin-libdir && /Users/biocbuild/BBS/utils/build-universal.sh snifter_1.14.0.tar.gz /Library/Frameworks/R.framework/Resources/bin/R snifter.buildbin-libdir StartedAt: 2024-06-11 13:19:48 -0400 (Tue, 11 Jun 2024) EndedAt: 2024-06-11 13:20:10 -0400 (Tue, 11 Jun 2024) EllapsedTime: 22.4 seconds RetCode: 0 Status: OK PackageFile: snifter_1.14.0.tgz PackageFileSize: 893.8 KiB