Package: snifter Version: 1.14.0 Command: /Library/Frameworks/R.framework/Resources/bin/R CMD build --keep-empty-dirs --no-resave-data snifter StartedAt: 2024-10-17 09:36:38 -0400 (Thu, 17 Oct 2024) EndedAt: 2024-10-17 09:37:35 -0400 (Thu, 17 Oct 2024) EllapsedTime: 57.4 seconds RetCode: 0 Status: OK PackageFile: snifter_1.14.0.tar.gz PackageFileSize: 877.1 KiB