Package: snapcount Version: 1.16.0 Command: rm -rf snapcount.buildbin-libdir && mkdir snapcount.buildbin-libdir && E:\biocbuild\bbs-3.19-bioc\R\bin\R.exe CMD INSTALL --build --library=snapcount.buildbin-libdir snapcount_1.16.0.tar.gz StartedAt: 2024-10-17 08:40:46 -0400 (Thu, 17 Oct 2024) EndedAt: 2024-10-17 08:41:35 -0400 (Thu, 17 Oct 2024) EllapsedTime: 49.0 seconds RetCode: 0 Status: OK PackageFile: snapcount_1.16.0.zip PackageFileSize: 626.7 KiB