Package: snapcount Version: 1.16.0 Command: chmod a+r snapcount -R && F:\biocbuild\bbs-3.19-bioc\R\bin\R.exe CMD build --keep-empty-dirs --no-resave-data snapcount StartedAt: 2024-06-26 22:03:11 -0400 (Wed, 26 Jun 2024) EndedAt: 2024-06-26 22:04:53 -0400 (Wed, 26 Jun 2024) EllapsedTime: 102.3 seconds RetCode: 0 Status: OK PackageFile: snapcount_1.16.0.tar.gz PackageFileSize: 514.5 KiB