Package: snapcount Version: 1.16.0 Command: /Library/Frameworks/R.framework/Resources/bin/R CMD INSTALL snapcount StartedAt: 2024-10-16 15:18:08 -0400 (Wed, 16 Oct 2024) EndedAt: 2024-10-16 15:19:05 -0400 (Wed, 16 Oct 2024) EllapsedTime: 57.1 seconds RetCode: 0 Status: OK