Package: snapcount Version: 1.16.0 Command: /home/biocbuild/R/R-beta-2024-04-15_r86425/bin/R CMD check --install=check:snapcount.install-out.txt --library=/home/biocbuild/R/R-beta-2024-04-15_r86425/site-library --no-vignettes --timings snapcount_1.16.0.tar.gz StartedAt: 2024-05-08 12:05:18 -0000 (Wed, 08 May 2024) EndedAt: 2024-05-08 12:14:03 -0000 (Wed, 08 May 2024) EllapsedTime: 524.9 seconds RetCode: 0 Status: OK CheckDir: snapcount.Rcheck Warnings: 0