Package: snapcount Version: 1.16.0 Command: /Library/Frameworks/R.framework/Resources/bin/R CMD build --keep-empty-dirs --no-resave-data snapcount StartedAt: 2024-10-17 09:36:23 -0400 (Thu, 17 Oct 2024) EndedAt: 2024-10-17 09:38:08 -0400 (Thu, 17 Oct 2024) EllapsedTime: 104.4 seconds RetCode: 0 Status: OK PackageFile: snapcount_1.16.0.tar.gz PackageFileSize: 514 KiB