Package: smoothclust Version: 1.0.0 Command: rm -rf smoothclust.buildbin-libdir && mkdir smoothclust.buildbin-libdir && E:\biocbuild\bbs-3.19-bioc\R\bin\R.exe CMD INSTALL --build --library=smoothclust.buildbin-libdir smoothclust_1.0.0.tar.gz StartedAt: 2024-10-17 08:40:42 -0400 (Thu, 17 Oct 2024) EndedAt: 2024-10-17 08:41:24 -0400 (Thu, 17 Oct 2024) EllapsedTime: 42.0 seconds RetCode: 0 Status: OK PackageFile: smoothclust_1.0.0.zip PackageFileSize: 344 KiB