Package: smoothclust Version: 1.0.0 Command: chmod a+r smoothclust -R && F:\biocbuild\bbs-3.19-bioc\R\bin\R.exe CMD build --keep-empty-dirs --no-resave-data smoothclust StartedAt: 2024-06-26 22:02:48 -0400 (Wed, 26 Jun 2024) EndedAt: 2024-06-26 22:08:00 -0400 (Wed, 26 Jun 2024) EllapsedTime: 312.4 seconds RetCode: 0 Status: OK PackageFile: smoothclust_1.0.0.tar.gz PackageFileSize: 326.5 KiB