Package: smoothclust Version: 1.0.0 Command: /Library/Frameworks/R.framework/Resources/bin/R CMD INSTALL smoothclust StartedAt: 2024-10-16 15:27:55 -0400 (Wed, 16 Oct 2024) EndedAt: 2024-10-16 15:28:52 -0400 (Wed, 16 Oct 2024) EllapsedTime: 56.9 seconds RetCode: 0 Status: OK