Package: smoothclust Version: 1.0.0 Command: rm -rf smoothclust.buildbin-libdir && mkdir smoothclust.buildbin-libdir && /Users/biocbuild/BBS/utils/build-universal.sh smoothclust_1.0.0.tar.gz /Library/Frameworks/R.framework/Resources/bin/R smoothclust.buildbin-libdir StartedAt: 2024-10-17 17:14:38 -0400 (Thu, 17 Oct 2024) EndedAt: 2024-10-17 17:15:43 -0400 (Thu, 17 Oct 2024) EllapsedTime: 64.9 seconds RetCode: 0 Status: OK PackageFile: smoothclust_1.0.0.tgz PackageFileSize: 1.104 MiB