Package: smoothclust Version: 0.99.8 Command: /home/biocbuild/R/R-beta-2024-04-15_r86425/bin/R CMD check --install=check:smoothclust.install-out.txt --library=/home/biocbuild/R/R-beta-2024-04-15_r86425/site-library --no-vignettes --timings smoothclust_0.99.8.tar.gz StartedAt: 2024-04-29 10:40:29 -0000 (Mon, 29 Apr 2024) EndedAt: 2024-04-29 11:00:43 -0000 (Mon, 29 Apr 2024) EllapsedTime: 1214.1 seconds RetCode: 0 Status: OK CheckDir: smoothclust.Rcheck Warnings: 0